BEGIN:VCALENDAR
VERSION:2.0
PRODID:-//Willkommen auf der Homepage des Regionalverband Oberlausitz - ECPv6.15.20//NONSGML v1.0//EN
CALSCALE:GREGORIAN
METHOD:PUBLISH
X-WR-CALNAME:Willkommen auf der Homepage des Regionalverband Oberlausitz
X-ORIGINAL-URL:https://rvo.badminton-in-sachsen.de
X-WR-CALDESC:Veranstaltungen für Willkommen auf der Homepage des Regionalverband Oberlausitz
REFRESH-INTERVAL;VALUE=DURATION:PT1H
X-Robots-Tag:noindex
X-PUBLISHED-TTL:PT1H
BEGIN:VTIMEZONE
TZID:Europe/Berlin
BEGIN:DAYLIGHT
TZOFFSETFROM:+0100
TZOFFSETTO:+0200
TZNAME:CEST
DTSTART:20250330T010000
END:DAYLIGHT
BEGIN:STANDARD
TZOFFSETFROM:+0200
TZOFFSETTO:+0100
TZNAME:CET
DTSTART:20251026T010000
END:STANDARD
BEGIN:DAYLIGHT
TZOFFSETFROM:+0100
TZOFFSETTO:+0200
TZNAME:CEST
DTSTART:20260329T010000
END:DAYLIGHT
BEGIN:STANDARD
TZOFFSETFROM:+0200
TZOFFSETTO:+0100
TZNAME:CET
DTSTART:20261025T010000
END:STANDARD
BEGIN:DAYLIGHT
TZOFFSETFROM:+0100
TZOFFSETTO:+0200
TZNAME:CEST
DTSTART:20270328T010000
END:DAYLIGHT
BEGIN:STANDARD
TZOFFSETFROM:+0200
TZOFFSETTO:+0100
TZNAME:CET
DTSTART:20271031T010000
END:STANDARD
END:VTIMEZONE
BEGIN:VEVENT
DTSTART;TZID=Europe/Berlin:20260425T090000
DTEND;TZID=Europe/Berlin:20260425T170000
DTSTAMP:20260421T143627
CREATED:20251026T090237Z
LAST-MODIFIED:20251217T145258Z
UID:4746-1777107600-1777136400@rvo.badminton-in-sachsen.de
SUMMARY:2. RRL u11/U17 am 25.04.2026 in Sohland
DESCRIPTION:U11:     JE\, ME\, MX\nU17:     JE\, ME\, JD\, MD\nLink zum turnier
URL:https://rvo.badminton-in-sachsen.de/?tribe_events=2-rrl-u11-u17-am-25-04-2026-in-sohland
LOCATION:Oberland Sporthalle (4)\, Gerhart-Hauptmann- Str. 4a\, Sohland/Spree\, 02689\, Deutschland
CATEGORIES:Ranglisten
END:VEVENT
BEGIN:VEVENT
DTSTART;TZID=Europe/Berlin:20260425T100000
DTEND;TZID=Europe/Berlin:20260425T130000
DTSTAMP:20260421T143627
CREATED:20251026T091024Z
LAST-MODIFIED:20251026T091954Z
UID:4750-1777111200-1777122000@rvo.badminton-in-sachsen.de
SUMMARY:Jahreshauptversammlung BVS
DESCRIPTION:Beginn 10:00 \,EInlass um 09:00 Uhr
URL:https://rvo.badminton-in-sachsen.de/?tribe_events=jahreshauptversammlung-bvs
LOCATION:Berufsförderungsnetzwerk Dresden\, Hellerhofstraße 35\, Dresden\, 01129\, Germany
CATEGORIES:BVS
ORGANIZER;CN="Badminton Verband Sachsen":MAILTO:geschaeftsstelle@bvsachsen.de
END:VEVENT
BEGIN:VEVENT
DTSTART;TZID=Europe/Berlin:20260502T090000
DTEND;TZID=Europe/Berlin:20260502T170000
DTSTAMP:20260421T143627
CREATED:20251026T092242Z
LAST-MODIFIED:20251217T145618Z
UID:4758-1777712400-1777741200@rvo.badminton-in-sachsen.de
SUMMARY:2. RRL u15/19 am 02.05.2026 in Großschönau
DESCRIPTION:U15:              JE\, ME\, JD\, MD\nU19:             JE\, ME\, JD\, MD\nLink zum Turnier
URL:https://rvo.badminton-in-sachsen.de/?tribe_events=2-rrl-u15-19-am-02-05-2026-in-grossschoenau
LOCATION:Friedrich-Ludwig-Jahn Sportstätte (6)\, Hauptstr. 57a\, Großschönau\, 02779\, Deutschland
CATEGORIES:Ranglisten
END:VEVENT
BEGIN:VEVENT
DTSTART;VALUE=DATE:20260530
DTEND;VALUE=DATE:20260531
DTSTAMP:20260421T143627
CREATED:20251026T084330Z
LAST-MODIFIED:20251217T145811Z
UID:4088-1780099200-1780185599@rvo.badminton-in-sachsen.de
SUMMARY:Meldeschluss 2. RRL u9/u13/Aktive am 13.06.2026 in Großschönau
DESCRIPTION:U9:              JE\, ME\nU13:           JE\, ME\, JD\, MD\nAktive:       HE(A)\, HE(B)\, DE\nLink zum Turnier
URL:https://rvo.badminton-in-sachsen.de/?tribe_events=meldeschluss-1-rrl-u9-u15-aktive-am-28-03-2026-in-grossschoenau-2
LOCATION:Friedrich-Ludwig-Jahn Sportstätte (6)\, Hauptstr. 57a\, Großschönau\, 02779\, Deutschland
CATEGORIES:Meldungsschluß
END:VEVENT
BEGIN:VEVENT
DTSTART;VALUE=DATE:20260613
DTEND;VALUE=DATE:20260614
DTSTAMP:20260421T143627
CREATED:20260122T194621Z
LAST-MODIFIED:20260330T084214Z
UID:4991-1781308800-1781395199@rvo.badminton-in-sachsen.de
SUMMARY:Meldeschluss KKuJS 2026 in Zittau
DESCRIPTION:Ausschreibung
URL:https://rvo.badminton-in-sachsen.de/?tribe_events=meldeschluss-kkujs-2026-in-zittau
LOCATION:An der Sporthalle\, Ottokarplatz\, An der Sporthalle 4\, Zittau\, 02763\, Deutschland
CATEGORIES:Meldungsschluß
END:VEVENT
BEGIN:VEVENT
DTSTART;TZID=Europe/Berlin:20260613T090000
DTEND;TZID=Europe/Berlin:20260613T170000
DTSTAMP:20260421T143627
CREATED:20251026T084805Z
LAST-MODIFIED:20251217T150027Z
UID:4740-1781341200-1781370000@rvo.badminton-in-sachsen.de
SUMMARY:2. RRL u9/u13/Aktive am 13.06.2026 in Großschönau
DESCRIPTION:U9:              JE\, ME\nU13:           JE\, ME\, JD\, MD\nAktive:       HE(A)\, HE(B)\, DE\nLink zum Turnier
URL:https://rvo.badminton-in-sachsen.de/?tribe_events=2-rrl-u9-u13-aktive-am-13-06-2026-in-grossschoenau
LOCATION:Friedrich-Ludwig-Jahn Sportstätte (6)\, Hauptstr. 57a\, Großschönau\, 02779\, Deutschland
CATEGORIES:Ranglisten
END:VEVENT
BEGIN:VEVENT
DTSTART;TZID=Europe/Berlin:20260620T090000
DTEND;TZID=Europe/Berlin:20260620T183000
DTSTAMP:20260421T143627
CREATED:20260122T194313Z
LAST-MODIFIED:20260122T194648Z
UID:4988-1781946000-1781980200@rvo.badminton-in-sachsen.de
SUMMARY:Kreis- Kinder- und Jugendspiele 2026 in Zittau
DESCRIPTION:Ausschreibung
URL:https://rvo.badminton-in-sachsen.de/?tribe_events=kreis-kinder-und-jugendspiele-2026-in-zittau
LOCATION:An der Sporthalle\, Ottokarplatz\, An der Sporthalle 4\, Zittau\, 02763\, Deutschland
CATEGORIES:Kinder/Jugend
END:VEVENT
END:VCALENDAR